BEGIN:VCALENDAR
VERSION:2.0
PRODID:-//Red de librerías Paulinas - ECPv6.15.20//NONSGML v1.0//EN
CALSCALE:GREGORIAN
METHOD:PUBLISH
X-WR-CALNAME:Red de librerías Paulinas
X-ORIGINAL-URL:https://librerias.paulinas.es
X-WR-CALDESC:Eventos para Red de librerías Paulinas
REFRESH-INTERVAL;VALUE=DURATION:PT1H
X-Robots-Tag:noindex
X-PUBLISHED-TTL:PT1H
BEGIN:VTIMEZONE
TZID:Europe/Madrid
BEGIN:DAYLIGHT
TZOFFSETFROM:+0100
TZOFFSETTO:+0200
TZNAME:CEST
DTSTART:20240331T010000
END:DAYLIGHT
BEGIN:STANDARD
TZOFFSETFROM:+0200
TZOFFSETTO:+0100
TZNAME:CET
DTSTART:20241027T010000
END:STANDARD
BEGIN:DAYLIGHT
TZOFFSETFROM:+0100
TZOFFSETTO:+0200
TZNAME:CEST
DTSTART:20250330T010000
END:DAYLIGHT
BEGIN:STANDARD
TZOFFSETFROM:+0200
TZOFFSETTO:+0100
TZNAME:CET
DTSTART:20251026T010000
END:STANDARD
BEGIN:DAYLIGHT
TZOFFSETFROM:+0100
TZOFFSETTO:+0200
TZNAME:CEST
DTSTART:20260329T010000
END:DAYLIGHT
BEGIN:STANDARD
TZOFFSETFROM:+0200
TZOFFSETTO:+0100
TZNAME:CET
DTSTART:20261025T010000
END:STANDARD
END:VTIMEZONE
BEGIN:VEVENT
DTSTART;TZID=Europe/Madrid:20250215T110000
DTEND;TZID=Europe/Madrid:20250215T130000
DTSTAMP:20260423T044509
CREATED:20250115T121411Z
LAST-MODIFIED:20250116T105619Z
UID:19938-1739617200-1739624400@librerias.paulinas.es
SUMMARY:Visita guiada a la Catedral de Granada
DESCRIPTION:Desde la librería Paulinas de Granada\, te proponemos una Visita guiada a la Catedral de Granada\, con motivo de su V Centenario (1523- ampliado hasta 2028). \n\n\n\nComenzó el V Centenario el 25 de marzo de 2023\, día en que se conmemoraban los 500 años de la colocación de la primera piedra del templo catedralicio. Culminará en el año 2028\, por ser en este año\, los 500 años «del giro renacentista en su construcción» que dio lugar al templo que conocemos hoy. \n\n\n\nEsta primera piedra tuvo lugar en la Solemnidad de la Encarnación del Señor\, nombre que lleva la S.A.I Catedral Metropolitana.  \n\n\n\nEs una de las obras cumbres del Renacimiento Español\, fue construida por maestros de distintos estilos a lo largo de los siglos. Se fusionan elementos góticos\, renacentistas y barrocos. Como en muchas otras catedrales de Andalucía\, fue construida sobre la parte superior de la mezquita principal de la ciudad. \n\n\n\nLa culminación de la construcción de la Catedral fue a finales del siglo XVII y principios del SVIII. Además de su valor arquitectónico\, alberga la Capilla Real\, donde los Reyes Católicos descansan. \n\n\n\nD. José Policarpo Cruz Cabrera (Comisario que preside la Comisión de este Centenario) entre otras cosas\, señaló que este V centenario «acerca más si cabe la catedral a los ciudadanos de Granada\, la provincia y a todo el mundo\, con su idiosincrasia\, cultura\, historia y arte que el propio templo encierra«. \n\n\n\n\n\n\n\n\n\n\n\nVisita guiada a la Catedral de Granada\n\n\n\nPor todo ello\, desde la librería Paulinas de Granada nos hemos querido unir a esta celebración promoviendo una visita guiada a la catedral con el fin de conocer su rica historia y algunas obras de arte que ha atesorado en estos 500 años. \n\n\n\nLa visita será guiada por Pablo López Chaves\, Profesor de Historia de la Iglesia en la Facultad de Teología de Granada y Guía Oficial AGIP. \n\n\n\n\nDía: sábado 15 de febrero.\n\n\n\nHora: 11:00h (dura 2 horas aproximadamente).\n\n\n\nPunto de encuentro: en la fuente de la Plaza Bib-Rambla.\n\n\n\nAportación: 15\,00 € (Incluye entrada a la Catedral y sistema de audio). Abonar antes en librería Paulinas.\n\n\n\nPlazas limitadas: Imprescindible inscripción previa. Si no puedes venir en persona a la librería\, puedes llamarnos al 958 22 23 03\, 680 50 81 27 (con Whatsapp) o escribirnos al email libreria.granada@paulinas.es y reservar tu plaza.\n\n\n\n\ncatedral de granada entrada\n\n\n\n\n\n\n\nCómo llegar:\n\n\n\n\n\n\n\n\n\nPara no perderte ningún evento que organicemos\, suscríbete a nuestro Boletín semanal de Novedades (está al final de esta página): \n\n\n\n\nSuscribir al Boletín
URL:https://librerias.paulinas.es/evento/visita-guiada-a-la-catedral-de-granada/
LOCATION:Catedral de Granada\, Plaza de las Pasiegas\, Granada\, 18001
CATEGORIES:Granada
ATTACH;FMTTYPE=image/jpeg:https://librerias.paulinas.es/wp-content/uploads/2025/01/visita-guiada-catedral-de-granada.jpg
END:VEVENT
END:VCALENDAR