BEGIN:VCALENDAR
VERSION:2.0
PRODID:-//Red de librerías Paulinas - ECPv6.15.20//NONSGML v1.0//EN
CALSCALE:GREGORIAN
METHOD:PUBLISH
X-ORIGINAL-URL:https://librerias.paulinas.es
X-WR-CALDESC:Eventos para Red de librerías Paulinas
REFRESH-INTERVAL;VALUE=DURATION:PT1H
X-Robots-Tag:noindex
X-PUBLISHED-TTL:PT1H
BEGIN:VTIMEZONE
TZID:Europe/Madrid
BEGIN:DAYLIGHT
TZOFFSETFROM:+0100
TZOFFSETTO:+0200
TZNAME:CEST
DTSTART:20230326T010000
END:DAYLIGHT
BEGIN:STANDARD
TZOFFSETFROM:+0200
TZOFFSETTO:+0100
TZNAME:CET
DTSTART:20231029T010000
END:STANDARD
BEGIN:DAYLIGHT
TZOFFSETFROM:+0100
TZOFFSETTO:+0200
TZNAME:CEST
DTSTART:20240331T010000
END:DAYLIGHT
BEGIN:STANDARD
TZOFFSETFROM:+0200
TZOFFSETTO:+0100
TZNAME:CET
DTSTART:20241027T010000
END:STANDARD
BEGIN:DAYLIGHT
TZOFFSETFROM:+0100
TZOFFSETTO:+0200
TZNAME:CEST
DTSTART:20250330T010000
END:DAYLIGHT
BEGIN:STANDARD
TZOFFSETFROM:+0200
TZOFFSETTO:+0100
TZNAME:CET
DTSTART:20251026T010000
END:STANDARD
END:VTIMEZONE
BEGIN:VEVENT
DTSTART;TZID=Europe/Madrid:20241214T103000
DTEND;TZID=Europe/Madrid:20241214T123000
DTSTAMP:20260422T134402
CREATED:20241127T121748Z
LAST-MODIFIED:20241202T154536Z
UID:19777-1734172200-1734179400@librerias.paulinas.es
SUMMARY:Visita guiada + degustación de dulces navideños en el Museo de Carmelitas AO de Granada
DESCRIPTION:El sábado 14 de diciembre\, te proponemos la visita guiada al Museo de Carmelitas AO de Granada\, de la mano de Venancio Galán\, director de dicho museo. \n\n\n\n\n\n\n\nEn ella podremos conocer las nuevas salas de las doñas y el patrimonio textil que alberga el convento\, donde conoceremos el modo de vida de aquellas mujeres que vivieron en el convento.  \n\n\n\nTambién disfrutaremos de la exposición navideña y del tradicional Belén que atesora la comunidad con piezas del siglo XIX.  \n\n\n\nTerminaremos con una degustación de dulces navideños fabricados artesanalmente por las monjas Carmelitas. \n\n\n\nLos datos de la visita son: \n\n\n\n\nDía: sábado 14 de Diciembre.\n\n\n\nHora: 10:30h (duración aproximada: dos horas).\n\n\n\nLugar de encuentro: en la puerta del Monasterio (c/ Monjas del Carmen nº 8\, al lado del Restaurante de los Manueles).\n\n\n\nDonativo: 6\,00 €  (íntegro para la comunidad de religiosas).\n\n\n\nAforo limitado: Inscripción en la librería. Si no puedes venir en persona\, puedes llamarnos al 958 22 23 03 o escribirnos por email a libreria.granada@paulinas.es\n\n\n\n\n\n\n\n\n¡¡ Apúntate !! Es una oportunidad para conocer más del magnífico patrimonio cultural\, histórico y religioso que tenemos en nuestra ciudad de Granada. \n\n\n\n\n\n\n\nCómo llegar:
URL:https://librerias.paulinas.es/evento/visita-degustacion-de-dulces-navidenos-en-el-mucar-granada-carmelitas-calzadas/
LOCATION:Museo-Monasterio de Carmelitas Calzadas\, Calle Monjas del Carmen\, 8\, Granada\, Granada\, 18009\, España
CATEGORIES:Granada
ATTACH;FMTTYPE=image/jpeg:https://librerias.paulinas.es/wp-content/uploads/2024/11/visita-guiada-mucar-granada.jpg
END:VEVENT
END:VCALENDAR