BEGIN:VCALENDAR
VERSION:2.0
PRODID:-//Red de librerías Paulinas - ECPv6.15.20//NONSGML v1.0//EN
CALSCALE:GREGORIAN
METHOD:PUBLISH
X-ORIGINAL-URL:https://librerias.paulinas.es
X-WR-CALDESC:Eventos para Red de librerías Paulinas
REFRESH-INTERVAL;VALUE=DURATION:PT1H
X-Robots-Tag:noindex
X-PUBLISHED-TTL:PT1H
BEGIN:VTIMEZONE
TZID:Europe/Madrid
BEGIN:DAYLIGHT
TZOFFSETFROM:+0100
TZOFFSETTO:+0200
TZNAME:CEST
DTSTART:20230326T010000
END:DAYLIGHT
BEGIN:STANDARD
TZOFFSETFROM:+0200
TZOFFSETTO:+0100
TZNAME:CET
DTSTART:20231029T010000
END:STANDARD
BEGIN:DAYLIGHT
TZOFFSETFROM:+0100
TZOFFSETTO:+0200
TZNAME:CEST
DTSTART:20240331T010000
END:DAYLIGHT
BEGIN:STANDARD
TZOFFSETFROM:+0200
TZOFFSETTO:+0100
TZNAME:CET
DTSTART:20241027T010000
END:STANDARD
BEGIN:DAYLIGHT
TZOFFSETFROM:+0100
TZOFFSETTO:+0200
TZNAME:CEST
DTSTART:20250330T010000
END:DAYLIGHT
BEGIN:STANDARD
TZOFFSETFROM:+0200
TZOFFSETTO:+0100
TZNAME:CET
DTSTART:20251026T010000
END:STANDARD
END:VTIMEZONE
BEGIN:VEVENT
DTSTART;TZID=Europe/Madrid:20240406T110000
DTEND;TZID=Europe/Madrid:20240406T130000
DTSTAMP:20260422T034646
CREATED:20240129T114847Z
LAST-MODIFIED:20240210T090704Z
UID:18356-1712401200-1712408400@librerias.paulinas.es
SUMMARY:Ruta guiada por la Granada agustiniana y visita a las Tomasas
DESCRIPTION:Desde la librería Paulinas de Granada\, te proponemos una Ruta guiada por la Granada agustiniana y visita a las Tomasas (Convento de Santo Tomás de Villanueva)\, de Granada. \n\n\n\nEntrada a la iglesia\n\n\n\nComenzaremos en el Convento de Santo Tomás de Villanueva\, situado en pleno barrio del Albaicín\, visitando a la Comunidad de Religiosas Agustinas Recoletas (conocidas como Tomasas). Este convento del s. XVII fue erigido en 1636\, construido aprovechando partes de edificios anteriores y se encuentra adosado al sistema defensivo de la preexistente Alcazaba Qadima. \n\n\n\nLa entrada a la iglesia\, identificada por el alero que hay a modo de tejadillo sobre la portada y por la espadaña situada sobre ella\, destaca como elemento paisajístico en contraste con el aspecto sobrio del resto de los muros exteriores. \n\n\n\nA continuación\, iremos haciendo un recorrido por diferentes lugares en el Barrio del Albaicín de huella agustiniana\, aún existente o ya de tiempos pasados. \n\n\n\nRetablo y altar de las Tomasas\n\n\n\nLa ruta estará guiada por Pilar Ramos\, Presidente de la Asociación «Conoce Granada Paseando». \n\n\n\nLos datos para la ruta son: \n\n\n\n\nDía: sábado 6 de abril.\n\n\n\nHora: 11:00 h. (dura 2 horas aproximadamente).\n\n\n\nPunto de encuentro: en la puerta del Convento de las Tomasas (Callejón de las Tomasas\, 23. Albaicín).\n\n\n\nAportación: Donativo (íntegro para la Comunidad de religiosas agustinas). Se puede abonar antes en la librería Paulinas o directamente en la ruta.\n\n\n\nPlazas limitadas: Imprescindible inscripción previa. Si no puedes venir en persona a la librería\, puedes llamarnos al 958 22 23 03\, 680 50 81 27 (con Whatsapp) o escribirnos al email libreria.granada@paulinas.es y reservar tu plaza.\n\n\n\nRecorrido con dificultad para personas con movilidad reducida.\n\n\n\n\nOtras informaciones: \n\n\n\nEl sábado hay misa a las 10:30h en el Convento de las Tomasas\, por si alguien quiere asistir antes de la ruta. \n\n\n\n\n\n\n\nCómo llegar:\n\n\n\n\nAndando: si no sabes cómo llegar andando\, puedes salir con nosotros desde la librería Paulinas\, saldremos a las 10:30h.\n\n\n\nEn autobús: autobús C31 y C32\, salida desde Plaza Nueva y bajar en la parada Callejón de las Tomasas 19. Ver: horarios C31 y horarios C32.\n\n\n\nEn taxi: indicando al Convento de las Tomasas\, Callejón de las Tomasas\, 23.\n\n\n\n\n\n\n\n\n\n\n\n\n\n\nPara no perderte ningún evento que organicemos\, suscríbete a nuestro Boletín semanal de Novedades (está al final de esta página): \n\n\n\n\nSuscribir al Boletín
URL:https://librerias.paulinas.es/evento/ruta-guiada-por-granada-agustiniana-y-visita-tomasas-10-2-24/
LOCATION:Convento de Santo Tomás de Villanueva (Tomasas)\, Callejón de las Tomasas\, 23\, Granada\, Granada\, 18010\, España
CATEGORIES:Granada
ATTACH;FMTTYPE=image/jpeg:https://librerias.paulinas.es/wp-content/uploads/2022/11/Ruta_guiada_agustiniana.jpg
END:VEVENT
BEGIN:VEVENT
DTSTART;TZID=Europe/Madrid:20240413T110000
DTEND;TZID=Europe/Madrid:20240413T130000
DTSTAMP:20260422T034646
CREATED:20240307T112046Z
LAST-MODIFIED:20240307T112047Z
UID:18587-1713006000-1713013200@librerias.paulinas.es
SUMMARY:Visita guiada a la Abadía del Sacromonte: "La montaña sagrada: en busca de las raíces de la Granada cristiana"
DESCRIPTION:Desde la librería Paulinas de Granada\, te proponemos una Visita guiada a la Abadía del Sacromonte con el título «La montaña sagrada: en busca de las raíces de la Granada cristiana». \n\n\n\nInvierno de 1595. Mientras la ciudad de Granada yace dormida por el frío invierno y los ecos de la Guerra de las Alpujarras todavía no se han extinguido\, las entrañas de un monte cercano darán a luz el más insólito de los hallazgos.  \n\n\n\n\n\n\n\nAcompáñanos a descubrir los secretos de un enclave crecido al abrigo de lo inverosímil y lo maravilloso\, en el que las raíces del cristianismo se mezclan con la imaginación de un pueblo caído en desgracia. Aquel lugar en el que una maravillosa falsificación\, preñada de escándalo\, marcará el inicio de una empresa marcada por la búsqueda de la verdad y el amor a la sabiduría. \n\n\n\nLa visita será guiada por Pablo López Chaves\, Profesor de Historia de la Iglesia en la Facultad de Teología de Granada y Guía Oficial AGIP. \n\n\n\nLos datos para la ruta son: \n\n\n\n\nDía: sábado 13 de abril de 2024.\n\n\n\nHora: 11:00h (dura 2 horas aproximadamente).\n\n\n\nPunto de encuentro: Abadía del Sacromonte\, entrada principal.\n\n\n\nAportación: 12\,00 € (incluye la entrada a la Abadía del Sacromonte ). Abonar antes en la librería Paulinas.\n\n\n\nPlazas limitadas: Imprescindible inscripción previa. Si no puedes venir en persona a la librería\, puedes llamarnos al 958 22 23 03\, 680 50 81 27 (con Whatsapp) o escribirnos al email libreria.granada@paulinas.es y reservar tu plaza.\n\n\n\n\n\n\n\n\nCómo llegar:\n\n\n\n\nEn autobús: autobús C34\, salida desde Plaza Nueva (frecuencia: cada 20 minutos\, y duración del trayecto: 10 minutos). Ver: horarios C34 (Los horarios marcados en azul son las salidas de la línea C34 que sí llegan a la Abadía. El resto de autobuses de la línea C34 paran a unos 10 minutos a pie de la Abadía).\n\n\n\nEn coche: Parking gratuito disponible en las instalaciones. Ver cómo llegar en Google Maps\n\n\n\n\n\n\n\n\n\n\n\n\n\n\nPara no perderte ningún evento que organicemos\, suscríbete a nuestro Boletín semanal de Novedades (está al final de esta página): \n\n\n\n\nSuscribir al Boletín
URL:https://librerias.paulinas.es/evento/visita-guiada-abadia-sacromonte-13-4-24/
LOCATION:Abadía del Sacromonte\, Camino del Sacromonte\, s/n\, Granada\, Granada\, 18010\, España
CATEGORIES:Granada
ATTACH;FMTTYPE=image/jpeg:https://librerias.paulinas.es/wp-content/uploads/2023/10/Cabecera_Visita_Abadia_Sacromonte.jpg
END:VEVENT
END:VCALENDAR