BEGIN:VCALENDAR
VERSION:2.0
PRODID:-//Red de librerías Paulinas - ECPv6.15.20//NONSGML v1.0//EN
CALSCALE:GREGORIAN
METHOD:PUBLISH
X-ORIGINAL-URL:https://librerias.paulinas.es
X-WR-CALDESC:Eventos para Red de librerías Paulinas
REFRESH-INTERVAL;VALUE=DURATION:PT1H
X-Robots-Tag:noindex
X-PUBLISHED-TTL:PT1H
BEGIN:VTIMEZONE
TZID:Europe/Madrid
BEGIN:DAYLIGHT
TZOFFSETFROM:+0100
TZOFFSETTO:+0200
TZNAME:CEST
DTSTART:20180325T010000
END:DAYLIGHT
BEGIN:STANDARD
TZOFFSETFROM:+0200
TZOFFSETTO:+0100
TZNAME:CET
DTSTART:20181028T010000
END:STANDARD
BEGIN:DAYLIGHT
TZOFFSETFROM:+0100
TZOFFSETTO:+0200
TZNAME:CEST
DTSTART:20190331T010000
END:DAYLIGHT
BEGIN:STANDARD
TZOFFSETFROM:+0200
TZOFFSETTO:+0100
TZNAME:CET
DTSTART:20191027T010000
END:STANDARD
BEGIN:DAYLIGHT
TZOFFSETFROM:+0100
TZOFFSETTO:+0200
TZNAME:CEST
DTSTART:20200329T010000
END:DAYLIGHT
BEGIN:STANDARD
TZOFFSETFROM:+0200
TZOFFSETTO:+0100
TZNAME:CET
DTSTART:20201025T010000
END:STANDARD
END:VTIMEZONE
BEGIN:VEVENT
DTSTART;TZID=Europe/Madrid:20191213T170000
DTEND;TZID=Europe/Madrid:20191213T200000
DTSTAMP:20260422T023519
CREATED:20191126T164619Z
LAST-MODIFIED:20200828T183756Z
UID:5584-1576256400-1576267200@librerias.paulinas.es
SUMMARY:Taller de emociones creativas
DESCRIPTION:Buscamos con este taller trabajar los principios de la inteligencia emocional para lograr personas que se conozcan\, que se quieran y valoren.  \n\n\n\n\n\n\n\nPersonas que sean capaces de gestionar lo que sienten y que su motivación brote del interior. Que sepan levantarse después de las caídas y fracasos. Que sean buenas personas\, generosas\, agradecidas\, colaboradoras\, creativas… y después hablarán de su materia a los alumnos\, en catequesis o compañeros de trabajo lo que sea necesario.  \n\n\n\nEs imprescindible prestar especial atención a la educación de las emociones.  \n\n\n\nPretendemos adquirir algunas de las habilidades necesarias para reconocer sentimientos y emociones de nosotros mismos y de los que nos rodean\, para desde ese conocimiento despertar en nuestra vida el sentido y la sensibilidad en cada experiencia.  \n\n\n\nDestinatarios\n\n\n\nEste taller está pensado para profesorado que imparte la asignatura de Religión\, para formadores cristianos\, catequistas y cualquier persona que tengan inquietud por conocer y trabajar la inteligencia emocional.  \n\n\n\nDirige el taller\n\n\n\n\n\n\n\nPedro Luis Picazo Gómez  \n\n\n\nEs Licenciado en Arte Dramático\, Escuela de Arte Dramático\, Murcia\, 1988-1991.  \n\n\n\nEs Licenciado en Ciencias Religiosas\, Universidad Pontificia de Comillas\, Madrid\, 1995-2001. \n\n\n\nMáster en Coaching Educativo\, Instituto Técnico de Estudios Aplicados\, Málaga\, 2016. \n\n\n\nExperto Universitario en Inteligencia Emocional\, Universidad Internacional de La Rioja\, 2018. \n\n\n\n\n\n\n\n Autor del proyecto “Emociones creativas” de la Editorial PPC que consta de tres manuales:  \n\n\n\n«Emociones creativas. Reflexiones\, prácticas y actividades para trabajar la educación emocional».«Más emociones creativas. Profundización».«Cuando las emociones se hacen creativas. Prácticum».\n\n\n\nContenidos\n\n\n\nActivación. \n\n\n\nLa importancia de una sonrisa.\n\n\n\nAutoconocimiento. Dimensiones de la persona.\n\n\n\nRelajación – concentración – diario de sentimientos. \n\n\n\nAutomotivación. \n\n\n\nCreatividad emocional. \n\n\n\nHabilidades sociales. \n\n\n\nOtros.\n\n\n\nObjetivos\n\n\n\nConocer el concepto de Inteligencia Emocional\, sus habilidades y competencias. Valorar la importancia de ser inteligente emocionalmente y sus múltiples beneficios personales\, educativos y laborales. \n\n\n\nIdentificar y ejercitar algunas prácticas concretas de la inteligencia emocional. \n\n\n\nProporcionar herramientas para el éxito a corto\, medio y largo plazo\, tanto a nivel personal como educativo. \n\n\n\nAumentar el interés por la inteligencia emocional y sus beneficios para la vida con prácticas emocionales. \n\n\n\nConectar la inteligencia emocional y la espiritual. \n\n\n\nAl finalizar el taller se llevará a cabo una evaluación del mismo.  \n\n\n\nCuándo\n\n\n\nViernes\, 13 de Diciembre\, de 17:00 a 20:00h. \n\n\n\nDónde\n\n\n\nCasa de la «Alianza en Jesús por María» (Aliadas) (calle Jardines\, 2. 18002. Granada). \n\n\n\nInscripción GRATUITA:\n\n\n\nPara asistir a este taller es imprescindible inscribirse previamente (plazas limitadas)\, en Librería Paulinas\, llamando al 958 22 23 03 / 680 50 81 27 \, o por email a libreria.granada@paulinas.es dando los siguiente datos: \n\n\n\nNombre y apellidosTeléfonoCorreo electrónico\n\n\n\n\n\n\n\nSi quieres descargarte esta información del Taller\, pincha en el siguiente botón: \n\n\n\nDescargar información Taller\n\n\n\n¡¡Compártelo!!
URL:https://librerias.paulinas.es/evento/taller-emociones-creativas/
LOCATION:Centro Univ. Francisco Suárez\, Calle Marqués de Falces 10\, Granada\, Granada\, Granada\, 18010\, España
CATEGORIES:Granada
ATTACH;FMTTYPE=image/jpeg:https://librerias.paulinas.es/wp-content/uploads/2019/11/cabecera-taller-emociones.jpg
END:VEVENT
END:VCALENDAR