BEGIN:VCALENDAR
VERSION:2.0
PRODID:-//Red de librerías Paulinas - ECPv6.15.20//NONSGML v1.0//EN
CALSCALE:GREGORIAN
METHOD:PUBLISH
X-WR-CALNAME:Red de librerías Paulinas
X-ORIGINAL-URL:https://librerias.paulinas.es
X-WR-CALDESC:Eventos para Red de librerías Paulinas
REFRESH-INTERVAL;VALUE=DURATION:PT1H
X-Robots-Tag:noindex
X-PUBLISHED-TTL:PT1H
BEGIN:VTIMEZONE
TZID:Europe/Madrid
BEGIN:DAYLIGHT
TZOFFSETFROM:+0100
TZOFFSETTO:+0200
TZNAME:CEST
DTSTART:20180325T010000
END:DAYLIGHT
BEGIN:STANDARD
TZOFFSETFROM:+0200
TZOFFSETTO:+0100
TZNAME:CET
DTSTART:20181028T010000
END:STANDARD
BEGIN:DAYLIGHT
TZOFFSETFROM:+0100
TZOFFSETTO:+0200
TZNAME:CEST
DTSTART:20190331T010000
END:DAYLIGHT
BEGIN:STANDARD
TZOFFSETFROM:+0200
TZOFFSETTO:+0100
TZNAME:CET
DTSTART:20191027T010000
END:STANDARD
BEGIN:DAYLIGHT
TZOFFSETFROM:+0100
TZOFFSETTO:+0200
TZNAME:CEST
DTSTART:20200329T010000
END:DAYLIGHT
BEGIN:STANDARD
TZOFFSETFROM:+0200
TZOFFSETTO:+0100
TZNAME:CET
DTSTART:20201025T010000
END:STANDARD
END:VTIMEZONE
BEGIN:VEVENT
DTSTART;TZID=Europe/Madrid:20190323T100000
DTEND;TZID=Europe/Madrid:20190323T133000
DTSTAMP:20260422T211738
CREATED:20190225T174915Z
LAST-MODIFIED:20200828T183756Z
UID:4554-1553335200-1553347800@librerias.paulinas.es
SUMMARY:Taller: "Descubriendo el eneagrama. Una ayuda para el conocimiento psicológico y espiritual"
DESCRIPTION:El eneagrama es un mapa que abarca nueve patrones psicológicos y espirituales básicos. \nComienza siendo una tipología de nueve caracteres (eneatipos) que permite reconocer el patrón o modelo al que cada uno pertenecemos. Pero\, aunque esto es importante\, esta herramienta\, va más allá del estudio de la personalidad o ego\, pues\, tras un primer nivel psicológico\, se adentra en el terreno de la espiritualidad que es su verdadera meta. \nTal y como lo conocemos en la actualidad\, el eneagrama integra una sabiduría milenaria con los conocimientos de la Psicología moderna. En su desarrollo histórico\, se encontró con el cristianismo en el siglo IV\, a través de los Padres del desierto\, quienes alcanzaron un profundo conocimiento del ser humano\, muy en la línea del eneagrama\, especialmente en lo que se refiere a la identificación de los “Pecados capitales” para luchar contra ellos. \nDestinatarios\nCualquier persona interesada en profundizar en el autoconocimiento\, desde lo psicológico y lo espiritual. \nDirige el taller\nManuel García Hernández (Granada\, 1950). \nEs doctor en Ciencias Geológicas por la Universidad de Granada\, de la que fue profesor entre los años 1972 y 2011. \nEstudió Teología en la Facultad de Teología de Granada\, ordenándose sacerdote diocesano en 1991. \nEn la actualidad alterna su labor como párroco de dos pueblos granadinos (Cogollos Vega y Nívar) con el acompañamiento personal y la realización de cursos\, talleres y conferencias sobre conocimiento personal y espiritualidad\, temas que constituyen el centro de su vida y dedicación. \nAutor del libro «Ensayo sobre vida y espiritualidad» publicado por Desclée de Brouwer. \nContenidos\nEn el presente taller\, abordaremos\, en primer lugar\, la descripción tipológica de los nueve tipos y sus relaciones mutuas\, a la luz del mapa o gráfico del eneagrama. \nInsistiremos en el error cognitivo en el que se ve atrapada inconscientemente cada personalidad (fijación egoica)\, que está a la base de la pasión o Pecado capital específico de cada eneatipo.  \nMediante la virtud correspondiente\, como antídoto contra la pasión\, abordaremos al eneagrama espiritual que nos ayuda a reconocer nuestra verdadera identidad espiritual y el camino de encuentro con Dios. \nCuándo\nSábado\, 23 de Marzo\, de 10:00 a 13:30h. \nDónde\nCentro Universitario Francisco Suárez (calle Elvira\, 65. Granada). \nInscripción GRATUITA:\nPara asistir a este taller es imprescindible inscribirse previamente (plazas limitadas)\, en Librería Paulinas\, llamando al 958 22 23 03 / 680 50 81 27 \, o por email a libreria.granada@paulinas.es dando los siguiente datos: \n\nNombre y apellidos\nTeléfono\nCorreo electrónico\n\n  \nSi quieres descargarte esta información del Taller\, pincha en el siguiente botón: \nDescargar información Taller \n  \n 
URL:https://librerias.paulinas.es/evento/taller-descubriendo-eneagrama-una-ayuda-conocimiento-psicologico-y-espiritual/
LOCATION:Centro Univ. Francisco Suárez\, Calle Marqués de Falces 10\, Granada\, Granada\, Granada\, 18010\, España
CATEGORIES:Granada
ATTACH;FMTTYPE=image/jpeg:https://librerias.paulinas.es/wp-content/uploads/2019/02/taller-eneagrama.jpg
END:VEVENT
END:VCALENDAR