BEGIN:VCALENDAR
VERSION:2.0
PRODID:-//Red de librerías Paulinas - ECPv6.15.20//NONSGML v1.0//EN
CALSCALE:GREGORIAN
METHOD:PUBLISH
X-WR-CALNAME:Red de librerías Paulinas
X-ORIGINAL-URL:https://librerias.paulinas.es
X-WR-CALDESC:Eventos para Red de librerías Paulinas
REFRESH-INTERVAL;VALUE=DURATION:PT1H
X-Robots-Tag:noindex
X-PUBLISHED-TTL:PT1H
BEGIN:VTIMEZONE
TZID:Europe/Madrid
BEGIN:DAYLIGHT
TZOFFSETFROM:+0100
TZOFFSETTO:+0200
TZNAME:CEST
DTSTART:20170326T010000
END:DAYLIGHT
BEGIN:STANDARD
TZOFFSETFROM:+0200
TZOFFSETTO:+0100
TZNAME:CET
DTSTART:20171029T010000
END:STANDARD
BEGIN:DAYLIGHT
TZOFFSETFROM:+0100
TZOFFSETTO:+0200
TZNAME:CEST
DTSTART:20180325T010000
END:DAYLIGHT
BEGIN:STANDARD
TZOFFSETFROM:+0200
TZOFFSETTO:+0100
TZNAME:CET
DTSTART:20181028T010000
END:STANDARD
BEGIN:DAYLIGHT
TZOFFSETFROM:+0100
TZOFFSETTO:+0200
TZNAME:CEST
DTSTART:20190331T010000
END:DAYLIGHT
BEGIN:STANDARD
TZOFFSETFROM:+0200
TZOFFSETTO:+0100
TZNAME:CET
DTSTART:20191027T010000
END:STANDARD
END:VTIMEZONE
BEGIN:VEVENT
DTSTART;TZID=Europe/Madrid:20180601T180000
DTEND;TZID=Europe/Madrid:20180601T210000
DTSTAMP:20260421T100943
CREATED:20180529T163926Z
LAST-MODIFIED:20200829T103912Z
UID:2274-1527876000-1527886800@librerias.paulinas.es
SUMMARY:Firma y encuentro con... Alejandro Fernández Barrajón
DESCRIPTION:Entre las actividades que hemos organizado desde la librería Paulinas para la Feria del libro de Madrid 2018\, que será del 25 de mayo al 10 de junio\, te proponemos un encuentro con Alejandro Fernández Barrajón. \nSe trata de una oportunidad para saludarle\, charlar con él y conocerle un poco más\, así como llevarte firmado alguno de sus libros\, en nuestra caseta nº 71 en el Parque del Retiro. Firmará su último libro «Cerca de ti\, Señor». \n«La primera vez que escucho el autor el himno-canción\, Cerca de ti\, Señor\, con su clásica melodía\, algo se estremeció dentro de él\, no solo por su música sino\, sobre todo\, porque conduce al abandono en las manos de Dios\, tanto en los momentos de bonanza como\, sobre todo\, en las situaciones de inquietud\, sufrimiento e incertidumbre.» \nAlejadro Fernández Barrajón es religioso mercedario y ha sido presidente de la CONFER. Nació en 1960 en Fuentes del Fresno y es autor de varios libros publicados en Editorial Paulinas\, entre ellos Noche oscura\, resplandor y estrellas. \n 
URL:https://librerias.paulinas.es/evento/firma-encuentro-alejandro-fernandez/
LOCATION:Parque del Retiro\, Paseo Fernán Núñez\, Madrid\, España
CATEGORIES:Madrid
ATTACH;FMTTYPE=image/jpeg:https://librerias.paulinas.es/wp-content/uploads/2018/05/alejandro.jpg
END:VEVENT
END:VCALENDAR