BEGIN:VCALENDAR
VERSION:2.0
PRODID:-//Red de librerías Paulinas - ECPv6.15.20//NONSGML v1.0//EN
CALSCALE:GREGORIAN
METHOD:PUBLISH
X-ORIGINAL-URL:https://librerias.paulinas.es
X-WR-CALDESC:Eventos para Red de librerías Paulinas
REFRESH-INTERVAL;VALUE=DURATION:PT1H
X-Robots-Tag:noindex
X-PUBLISHED-TTL:PT1H
BEGIN:VTIMEZONE
TZID:Europe/Madrid
BEGIN:DAYLIGHT
TZOFFSETFROM:+0100
TZOFFSETTO:+0200
TZNAME:CEST
DTSTART:20170326T010000
END:DAYLIGHT
BEGIN:STANDARD
TZOFFSETFROM:+0200
TZOFFSETTO:+0100
TZNAME:CET
DTSTART:20171029T010000
END:STANDARD
BEGIN:DAYLIGHT
TZOFFSETFROM:+0100
TZOFFSETTO:+0200
TZNAME:CEST
DTSTART:20180325T010000
END:DAYLIGHT
BEGIN:STANDARD
TZOFFSETFROM:+0200
TZOFFSETTO:+0100
TZNAME:CET
DTSTART:20181028T010000
END:STANDARD
BEGIN:DAYLIGHT
TZOFFSETFROM:+0100
TZOFFSETTO:+0200
TZNAME:CEST
DTSTART:20190331T010000
END:DAYLIGHT
BEGIN:STANDARD
TZOFFSETFROM:+0200
TZOFFSETTO:+0100
TZNAME:CET
DTSTART:20191027T010000
END:STANDARD
END:VTIMEZONE
BEGIN:VEVENT
DTSTART;TZID=Europe/Madrid:20180421T180000
DTEND;TZID=Europe/Madrid:20180428T210000
DTSTAMP:20260424T012109
CREATED:20180406T165556Z
LAST-MODIFIED:20200828T180051Z
UID:3671-1524333600-1524949200@librerias.paulinas.es
SUMMARY:Firma y encuentro con autores Feria del libro 2018
DESCRIPTION:Dentro de la gran oferta cultural de la 37ª Feria del libro de Granada 2018\, desde librería Paulinas te ofrecemos estos cuatro momentos para encontrarte con algunos de nuestros autores\, en nuestra caseta nº 42 (Carrera de la Virgen)\,  que muy generosamente han querido compartir su tiempo a disposición de los lectores: \n  \n \n  \nJosé Romero Peinado  \nSábado 21 Abril \n18:00 – 20:00h \nAutor de «El corazón humano de Dios». Paulinas\, 2017. \n  \n  \n \n  \nJuan Antonio Estrada \nDomingo 22 Abril \n12:00 – 14:00h \nAutor de «Las muertes de Dios. Ateísmo y espiritualidad». Trotta\, 2018. \n  \n  \n \n  \nManuel Martín García \nSábado 28 Abril \n12:00 – 14:00h \nAutor de «¿Quién dijo que todo está perdido?». Paulinas\, 2017. \n  \n  \n \n  \nMª Victoria Romero Hidalgo \nSábado 28 Abril \n18:00 – 20:00h \nAutora de «Diálogos de encuentro». Paulinas\, 2018. \n  \n  \nTambién\, puedes estar informado\, cada día\, siguiéndonos a través de nuestro Facebook \, Twitter o Instragram . \n  \n¡¡Te esperamos en esta fiesta del libro!! \n 
URL:https://librerias.paulinas.es/evento/firma-y-encuentro-con-autores-feria-del-libro-2018/
LOCATION:Feria del libro de Granada\, Fuente de las Batallas. Acera del Casino\, 15\, Granada\, Granada\, 18009\, España
CATEGORIES:Granada
ATTACH;FMTTYPE=image/jpeg:https://librerias.paulinas.es/wp-content/uploads/2018/04/banner_firma_autores_flg_2018-1.jpg
END:VEVENT
BEGIN:VEVENT
DTSTART;TZID=Europe/Madrid:20180421T180000
DTEND;TZID=Europe/Madrid:20180428T210000
DTSTAMP:20260424T012109
CREATED:20190430T180644Z
LAST-MODIFIED:20200828T180051Z
UID:4686-1524333600-1524949200@librerias.paulinas.es
SUMMARY:Firma y encuentro con autores Feria del libro 2019
DESCRIPTION:Dentro de la gran oferta cultural de la 38ª Feria del libro de Granada 2019\, desde librería Paulinas te ofrecemos estos momentos para encontrarte con algunos de nuestros autores\, en nuestra caseta nº 60 (Fuente de las Batallas)\,  que muy generosamente han querido compartir su tiempo a disposición de los lectores: \n  \nViernes 10 Mayo\n \n18:00 – 20:00h \nTomás Marín Mena \nAutor de «Fidelidad a Cristo\, fidelidad a la tierra«. PPC\, 2019. \n  \n  \nSábado 11 Mayo\n \n12:00 – 13:00h \nJorge Ordeig Corsini \nAutor de «La plenitud del Amor» (Rialp\, 2019) y «El Dios de la alegría y el problema del dolor» (Rialp\, 2015). \n  \n  \n  \n \n13:30 – 15:00h \nAntonio Callejón Peláez \nAutor de «Un mar de especias» (Esdrújula\, 2019)\, «Cadena de recuerdos» (Miguel Sánchez\, 2018) y «El último amor del Gran Capitán» (Esdrújula\, 2019). \n  \n  \n \n18:00 – 20:00h \nDaniel Pareja Rivas \nAutor de «Yo amo\, tú amas\, él ama» (San Pablo\, 2019) y «Educa a tu hijo» (San Pablo\, 2016). \n  \n\nDomingo 12 Mayo\n \n12:00 – 14:00h \nJosé María Castillo \nAutor de numerosas obras\, entre las últimas «El Evangelio marginado» (DDB\, 2019) y «La humanidad de Jesús» (Trotta\, 2016). \n  \n  \n \n18:00 – 20:00h \nMacarena Moreno-Torres Camy \nAutora de «El eneagrama\, el origen» (DDB\, 2019). \n  \n  \n\nLunes 13 Mayo\n \n19:00 – 21:00h \nAntonio Callejón Peláez \nAutor de «Un mar de especias» (Esdrújula\, 2019)\, «Cadena de recuerdos» (Miguel Sánchez\, 2018) y «El último amor del Gran Capitán» (Esdrújula\, 2019). \nMartes 14 Mayo\n \n19:00 – 21:00h \nAntonio Callejón Peláez \nAutor de «Un mar de especias» (Esdrújula\, 2019)\, «Cadena de recuerdos» (Miguel Sánchez\, 2018) y «El último amor del Gran Capitán» (Esdrújula\, 2019). \n\nMiércoles 15 Mayo\n \n19:00 – 21:00h \nAntonio Callejón Peláez \nAutor de «Un mar de especias» (Esdrújula\, 2019)\, «Cadena de recuerdos» (Miguel Sánchez\, 2018) y «El último amor del Gran Capitán» (Esdrújula\, 2019). \nJueves 16 Mayo\n \n18:30 – 20:00h \nYauci Manuel Fernández \nAutor de varias obras\, entre ellas «Cartas que nunca envié» (Esdrújula\, 2018)\, «Dos palabras para enamorarte» (Esdrújula\, 2017) y «Cada día cuenta» (Esdrújula\, 2015). \nViernes 17 Mayo\n \n17:30 – 19:30h \nJosé Chamorro García \nAutor de «Claves para saborear la vida» (San Pablo\, 2017) y «Las estaciones del silencio» (Mensajero\, 2013). \n  \nSábado 18 Mayo\n \n12:00 – 14:00h \nManuel Martín García \nAutor de «¿Quién dijo que todo está perdido?» (Paulinas\, 2017). \n  \n  \n \n18:00 – 20:00h \nMª Victoria Romero Hidalgo \nAutora de «Diálogos de encuentro» (Paulinas\, 2017) y «Reflexiones desde el silencio» (Paulinas\, 2016). \n  \nDomingo 19 Mayo\n \n13:30 – 15:00h \nAntonio Callejón Peláez \nAutor de «Un mar de especias» (Esdrújula\, 2019)\, «Cadena de recuerdos» (Miguel Sánchez\, 2018) y «El último amor del Gran Capitán» (Esdrújula\, 2019). \n  \n \n18:00 – 20:00h \nVictoria Eugenia Muñoz Jiménez \nAutora de «Huyendo a Granada» (Esdrújula\, 2017) y «El corazón del roble» (Nazarí\, 2014). \n  \n  \n  \n  \n  \n  \n  \n  \n  \n  \n  \n  \n  \n  \n  \nTambién\, puedes estar informado\, cada día\, siguiéndonos a través de nuestro Facebook \, Twitter o Instragram . \n  \n¡¡Te esperamos en esta fiesta del libro!! \n 
URL:https://librerias.paulinas.es/evento/firma-y-encuentro-con-autores-feria-del-libro-2019/
LOCATION:Feria del libro de Granada\, Fuente de las Batallas. Acera del Casino\, 15\, Granada\, Granada\, 18009\, España
CATEGORIES:Granada
ATTACH;FMTTYPE=image/jpeg:https://librerias.paulinas.es/wp-content/uploads/2018/04/banner_firma_autores_flg_2018-1.jpg
END:VEVENT
END:VCALENDAR