BEGIN:VCALENDAR
VERSION:2.0
PRODID:-//Red de librerías Paulinas - ECPv6.15.20//NONSGML v1.0//EN
CALSCALE:GREGORIAN
METHOD:PUBLISH
X-WR-CALNAME:Red de librerías Paulinas
X-ORIGINAL-URL:https://librerias.paulinas.es
X-WR-CALDESC:Eventos para Red de librerías Paulinas
REFRESH-INTERVAL;VALUE=DURATION:PT1H
X-Robots-Tag:noindex
X-PUBLISHED-TTL:PT1H
BEGIN:VTIMEZONE
TZID:Europe/Madrid
BEGIN:DAYLIGHT
TZOFFSETFROM:+0100
TZOFFSETTO:+0200
TZNAME:CEST
DTSTART:20170326T010000
END:DAYLIGHT
BEGIN:STANDARD
TZOFFSETFROM:+0200
TZOFFSETTO:+0100
TZNAME:CET
DTSTART:20171029T010000
END:STANDARD
BEGIN:DAYLIGHT
TZOFFSETFROM:+0100
TZOFFSETTO:+0200
TZNAME:CEST
DTSTART:20180325T010000
END:DAYLIGHT
BEGIN:STANDARD
TZOFFSETFROM:+0200
TZOFFSETTO:+0100
TZNAME:CET
DTSTART:20181028T010000
END:STANDARD
BEGIN:DAYLIGHT
TZOFFSETFROM:+0100
TZOFFSETTO:+0200
TZNAME:CEST
DTSTART:20190331T010000
END:DAYLIGHT
BEGIN:STANDARD
TZOFFSETFROM:+0200
TZOFFSETTO:+0100
TZNAME:CET
DTSTART:20191027T010000
END:STANDARD
END:VTIMEZONE
BEGIN:VEVENT
DTSTART;TZID=Europe/Madrid:20181124T103000
DTEND;TZID=Europe/Madrid:20181124T113000
DTSTAMP:20260424T013739
CREATED:20181115T163502Z
LAST-MODIFIED:20200828T183445Z
UID:4325-1543055400-1543059000@librerias.paulinas.es
SUMMARY:Visita guiada al Convento de Zafra
DESCRIPTION:Para este mes de Noviembre\, dentro del Ciclo “Conoce tu Patrimonio”\, te proponemos la visita guiada al Convento de Zafra\, de Granada. \nEl Monasterio de Reverendas Madres Dominicas de Santa Catalina de Siena fue mandado construir en el primer tercio del siglo XVI por el secretario de la corte de los Reyes Católicos\, Don Hernando de Zafra\, de ahí su denominación como Convento de Zafra. \nVisitar este cenobio es adentrarse en la historia\, el arte y la religiosidad más intimista de la ciudad de Granada. Se sitúa en el corazón del bajo Albaicín\, en plena Carrera del Darro\, y rodeados de edificios históricos\, como el Bañuelo\, la Casa de Castril\, el Maristán\, la Parroquia de San Pedro y San Pablo\, o los Conventos de la Concepción y de las Bernardas\, entre otros. \nLa visita se desarrolla en torno a la interpretación histórico-artística del lugar. Podremos observar el majestuoso conjunto ornamental de estilo barroco que forman la Capilla conventual\, la Sacristía y el Coro bajo. \n  \nLos principales artistas del barroco granadino se reúnen en el Convento de Zafra\, así podremos admirar obras de Pedro Atanasio Bocanegra\, José Risueño\, los Mora\, etc… \n  \nTras finalizar la visita cultural\, podremos acudir al torno del Convento donde la Comunidad de Religiosas ofrecen a la venta los archiconocidos y exquisitos dulces de Zafra\, con una gran variedad. \n  \nLos datos de la visita son: \n\nDía: sábado 24 de Noviembre.\nHora: 10:30h.\nLugar de encuentro: en la puerta de la Iglesia del Convento (Carrera del Darro\, 39).\nDonativo: 1\,00 €. Debe abonarse antes en la librería\, donde le daremos su entrada.\nAforo limitado: Inscripción en la librería. Si no puedes venir en persona\, puedes llamarnos al 958 22 23 03 o escribirnos por email a libreria.granada@paulinas.es\n\n  \n¡¡ Apúntate !! Es una oportunidad para conocer más del magnífico patrimonio cultural\, histórico y religioso que tenemos en nuestra ciudad de Granada. \n 
URL:https://librerias.paulinas.es/evento/visita-guiada-al-convento-de-zafra/
LOCATION:Convento de Zafra\, Carrera del Darro\, 39\, GRANADA\, Granada\, 18010\, España
CATEGORIES:Granada
ATTACH;FMTTYPE=image/jpeg:https://librerias.paulinas.es/wp-content/uploads/2018/11/cabecera_convento_zafra.jpg
END:VEVENT
END:VCALENDAR